BEGIN:VCALENDAR
VERSION:2.0
PRODID:-//Tukios.com/
BEGIN:VEVENT
UID:4c518aa3-4856-411d-8b8b-c4c88978d717@www.broughfuneral.com
DTSTAMP:20260425T173610Z
DTSTART:20260427T183000Z
DTEND:20260427T193000Z
SUMMARY:Funeral Service
DESCRIPTION:
URL:https://www.broughfuneral.com/obituaries/troy-bennett
LOCATION:Brough Funeral Home 102 South 2nd Street  Miamisburg OH 45342
GEO:39.6408741;-84.2870323
END:VEVENT
END:VCALENDAR