BEGIN:VCALENDAR
VERSION:2.0
PRODID:-//Tukios.com/
BEGIN:VEVENT
UID:010e0f11-80db-481c-966d-01d4ff22334c@www.broughfuneral.com
DTSTAMP:20260425T173816Z
DTSTART:20260427T163000Z
DTEND:20260427T183000Z
SUMMARY:Visitation
DESCRIPTION:
URL:https://www.broughfuneral.com/obituaries/troy-bennett
LOCATION:Brough Funeral Home 102 South 2nd Street  Miamisburg OH 45342
GEO:39.6408741;-84.2870323
END:VEVENT
END:VCALENDAR