BEGIN:VCALENDAR
VERSION:2.0
PRODID:-//Tukios.com/
BEGIN:VEVENT
UID:3e2ae035-50b7-45f3-9476-5be77e7ab9be@www.broughfuneral.com
DTSTAMP:20260421T181941Z
DTSTART:20260429T180000Z
DTEND:20260429T190000Z
SUMMARY:Memorial Service
DESCRIPTION:
URL:https://www.broughfuneral.com/obituaries/barbara-astor
LOCATION:Brough Funeral Home 102 S 2nd St  Miamisburg OH 45342
GEO:39.6408741;-84.2870323
END:VEVENT
END:VCALENDAR