BEGIN:VCALENDAR
VERSION:2.0
PRODID:-//Tukios.com/
BEGIN:VEVENT
UID:fa397013-1f9d-4ad0-9f9b-8932e85859f8@www.broughfuneral.com
DTSTAMP:20260421T182238Z
DTSTART:20260429T163000Z
DTEND:20260429T180000Z
SUMMARY:Memorial Gathering
DESCRIPTION:
URL:https://www.broughfuneral.com/obituaries/barbara-astor
LOCATION:Brough Funeral Home 102 S 2nd St  Miamisburg OH 45342
GEO:39.6408741;-84.2870323
END:VEVENT
END:VCALENDAR